BEGIN:VCALENDAR
VERSION:2.0
PRODID:-//Prodi Pendidikan Bahasa Arab (S1) - ECPv6.15.14//NONSGML v1.0//EN
CALSCALE:GREGORIAN
METHOD:PUBLISH
X-WR-CALNAME:Prodi Pendidikan Bahasa Arab (S1)
X-ORIGINAL-URL:https://pba.stithidayatunnajah.ac.id
X-WR-CALDESC:Events for Prodi Pendidikan Bahasa Arab (S1)
REFRESH-INTERVAL;VALUE=DURATION:PT1H
X-Robots-Tag:noindex
X-PUBLISHED-TTL:PT1H
BEGIN:VTIMEZONE
TZID:Asia/Jakarta
BEGIN:STANDARD
TZOFFSETFROM:+0700
TZOFFSETTO:+0700
TZNAME:WIB
DTSTART:20200101T000000
END:STANDARD
END:VTIMEZONE
BEGIN:VEVENT
DTSTART;TZID=Asia/Jakarta:20210626T080000
DTEND;TZID=Asia/Jakarta:20210626T170000
DTSTAMP:20260421T160127
CREATED:20210626T032544Z
LAST-MODIFIED:20210701T020459Z
UID:7209-1624694400-1624726800@pba.stithidayatunnajah.ac.id
SUMMARY:Akreditasi
DESCRIPTION:
URL:https://pba.stithidayatunnajah.ac.id/agenda/akreditasi/
END:VEVENT
END:VCALENDAR